BEGIN:VCALENDAR
VERSION:2.0
PRODID:-//Friends of the Australian Ballet - ECPv5.3.1//NONSGML v1.0//EN
CALSCALE:GREGORIAN
METHOD:PUBLISH
X-WR-CALNAME:Friends of the Australian Ballet
X-ORIGINAL-URL:https://fab.org.au
X-WR-CALDESC:Events for Friends of the Australian Ballet
BEGIN:VTIMEZONE
TZID:Australia/Sydney
BEGIN:STANDARD
TZOFFSETFROM:+1100
TZOFFSETTO:+1000
TZNAME:AEST
DTSTART:20210403T160000
END:STANDARD
BEGIN:DAYLIGHT
TZOFFSETFROM:+1000
TZOFFSETTO:+1100
TZNAME:AEDT
DTSTART:20211002T160000
END:DAYLIGHT
END:VTIMEZONE
BEGIN:VEVENT
DTSTART;TZID=Australia/Sydney:20210428T123000
DTEND;TZID=Australia/Sydney:20210428T153000
DTSTAMP:20210224T064638
CREATED:20201123T000328Z
LAST-MODIFIED:20210222T021936Z
UID:28355-1619613000-1619623800@fab.org.au
SUMMARY:Celebrating David McAllister AM
DESCRIPTION:Vicki Jones\nChair\, FAB Special Events Committee \ntogether with \nGreg Khoury\nChair\, Friends of the Australian Ballet (NSW) \nare delighted to announce a Sydney luncheon \n\n\n\n\nCelebrating David McAllister AM\nWith a little help from his Friends\n  \n\n\n\n\n12.30pm Wednesday 28 April 2021 \nWe sincerely hope you will be able to join us for this milestone farewell occasion. \nTickets on sale now. \nClick here for bookings and more information
URL:https://fab.org.au/event/celebrating-david-mcallister-am/
LOCATION:TBA\, Sydney\, Australia
CATEGORIES:Upcoming Event
ATTACH;FMTTYPE=image/jpeg:https://fab.org.au/wp-content/uploads/2021/01/DavidWeb-e1611702153425.jpg
END:VEVENT
END:VCALENDAR